BEGIN:VCALENDAR
VERSION:2.0
PRODID:-//Pós-Graduação em Microbiologia - ECPv6.15.20//NONSGML v1.0//EN
CALSCALE:GREGORIAN
METHOD:PUBLISH
X-WR-CALNAME:Pós-Graduação em Microbiologia
X-ORIGINAL-URL:https://posbmm.icb.usp.br/es
X-WR-CALDESC:Eventos para Pós-Graduação em Microbiologia
REFRESH-INTERVAL;VALUE=DURATION:PT1H
X-Robots-Tag:noindex
X-PUBLISHED-TTL:PT1H
BEGIN:VTIMEZONE
TZID:America/Sao_Paulo
BEGIN:STANDARD
TZOFFSETFROM:-0300
TZOFFSETTO:-0300
TZNAME:-03
DTSTART:20250101T000000
END:STANDARD
END:VTIMEZONE
BEGIN:VEVENT
DTSTART;TZID=America/Sao_Paulo:20260324T140000
DTEND;TZID=America/Sao_Paulo:20260324T160000
DTSTAMP:20260423T220958
CREATED:20260316T211116Z
LAST-MODIFIED:20260316T211948Z
UID:8501-1774360800-1774368000@posbmm.icb.usp.br
SUMMARY:[:pt]Reunião da CCP-BMM[:]
DESCRIPTION:
URL:https://posbmm.icb.usp.br/es/event/reuniao/
LOCATION:(Português) Sala de reuniões (204)
END:VEVENT
END:VCALENDAR